BEGIN:VCALENDAR
VERSION:2.0
PRODID:-//jEvents 2.0 for Joomla//EN
CALSCALE:GREGORIAN
METHOD:PUBLISH
BEGIN:VEVENT
UID:b2c51cf247f8a22d708e349b443695e1
CATEGORIES:Forum Frauen
CREATED:20250805T174735
SUMMARY:Freizeit für Frauen | Klangspuren des Himmels | Kloster Reute
LOCATION:Kloster Reute
DESCRIPTION:<h3 class="p1"><span class="s1">Freizeit</span> für Frauen im Kloster Reute
 </h3><h4 class="p3">Klangspuren des Himmels</h4><p class="p3"><strong>Tanz 
 und Andacht</strong></p><p class="p4">Zwischen Himmel und Erde schwingen le
 ise Töne – Klänge, die unsere Herzen berühren und uns ahnen lassen, dass me
 hr in unserem Leben klingt, als wir oft wahrnehmen. Mit Musik und Bewegung,
  mit biblischen Impulsen, Stille und Gespräch spüren wir den Klangspuren de
 s Himmels nach – Spuren, die Trost schenken, Mut machen und die Seele weite
 n. Einfache Kreistänze laden ein, im Rhythmus Gottes zur Ruhe zu kommen und
  Gemeinschaft neu zu erleben.<br />Gemeinsam wollen wir uns auf den Weg mac
 hen, um Gottes Melodie in unserem Leben zu entdecken und in uns zum Klingen
  zu bringen.</p><p class="p5"><strong>Ulrike Chuchra<br /></strong>Referent
 in für Tanz</p><p class="p5"><strong>Hanna Pissarczyk<br /></strong>Referen
 tin für Andacht</p><p class="p5"><em><strong><span class="s3">Ort<br /></sp
 an></strong></em>Kloster Reute<br />Klostergasse 6<br />88339 Bad Waldsee</
 p><p class="p6"><strong><em>Ablauf<br /></em></strong>Anreise Freitag 21. N
 ovember ab 16.00 Uhr<br />gemeinsamer Start mit Abendessen um 18.00 Uhr<br 
 />Ende am Sonntag 23. November nach dem Mittagessen</p><p class="p6"><stron
 g><em>Kosten</em><br /></strong>Seminargebühr: 60 €<br />EZ (VP, Etagendusc
 he): 184 €<br />EZ (VP, mit Dusche): 196 €<br />DZ (VP, mit Dusche): je184 
 €</p><p class="p6"><em><strong>Anmeldung bis spätestens 15.10.2025<br /></s
 trong></em>per E-Mail mit mit den Angaben<br />Name, Anschrift und Telefonn
 ummer an<br />Ulrike Chuchra, Tel.: 07351/441457<br />E-Mail: <strong><joom
 la-hidden-mail  is-link="1" is-email="1" first="Zm9ydW1mcmF1ZW4=" last="ZWZ
 nLWJ3LmRl" text="Zm9ydW1mcmF1ZW5AZWZnLWJ3LmRl" base="" >Diese E-Mail-Adress
 e ist vor Spambots geschützt! Zur Anzeige muss JavaScript eingeschaltet sei
 n.</joomla-hidden-mail></strong></p><p class="p4">Die Anmeldung wird verbin
 dlich durch die Überweisung des Seminarbetrages von 60 €.</p><p class="p4">
 <strong><em>Kontoinhaber</em></strong><br />Forum Frauen Baden Württemberg<
 br />IBAN: DE19 5009 2100 0000 1780 39<br />BIC: GENODE51BH2 (SKB Bad Hombu
 rg)</p><p class="p4">Bei einer Abmeldung wird die Seminargebühr einbehalten
 . Bei Absage vom 1. bis 11. November 2025 fallen 50 % der Kosten an. Bei Ab
 sage ab dem 12. November 2025 oder bei vorzeitiger Abreise werden 80 % des 
 Preises berechnet. Bei Abmeldung am Anreisetag oder Nichterscheinen wird de
 r volle Preis fällig.</p><p><strong><a href="images/PDF/Tanz_und-Andacht25.
 pdf" class="wf_file">Flyer | Tanz und Andacht</a></strong></p>
X-ALT-DESC;FMTTYPE=text/html:<h3 class="p1"><span class="s1">Freizeit</span> für Frauen im Kloster Reute
 </h3><h4 class="p3">Klangspuren des Himmels</h4><p class="p3"><strong>Tanz 
 und Andacht</strong></p><p class="p4">Zwischen Himmel und Erde schwingen le
 ise Töne – Klänge, die unsere Herzen berühren und uns ahnen lassen, dass me
 hr in unserem Leben klingt, als wir oft wahrnehmen. Mit Musik und Bewegung,
  mit biblischen Impulsen, Stille und Gespräch spüren wir den Klangspuren de
 s Himmels nach – Spuren, die Trost schenken, Mut machen und die Seele weite
 n. Einfache Kreistänze laden ein, im Rhythmus Gottes zur Ruhe zu kommen und
  Gemeinschaft neu zu erleben.<br />Gemeinsam wollen wir uns auf den Weg mac
 hen, um Gottes Melodie in unserem Leben zu entdecken und in uns zum Klingen
  zu bringen.</p><p class="p5"><strong>Ulrike Chuchra<br /></strong>Referent
 in für Tanz</p><p class="p5"><strong>Hanna Pissarczyk<br /></strong>Referen
 tin für Andacht</p><p class="p5"><em><strong><span class="s3">Ort<br /></sp
 an></strong></em>Kloster Reute<br />Klostergasse 6<br />88339 Bad Waldsee</
 p><p class="p6"><strong><em>Ablauf<br /></em></strong>Anreise Freitag 21. N
 ovember ab 16.00 Uhr<br />gemeinsamer Start mit Abendessen um 18.00 Uhr<br 
 />Ende am Sonntag 23. November nach dem Mittagessen</p><p class="p6"><stron
 g><em>Kosten</em><br /></strong>Seminargebühr: 60 €<br />EZ (VP, Etagendusc
 he): 184 €<br />EZ (VP, mit Dusche): 196 €<br />DZ (VP, mit Dusche): je184 
 €</p><p class="p6"><em><strong>Anmeldung bis spätestens 15.10.2025<br /></s
 trong></em>per E-Mail mit mit den Angaben<br />Name, Anschrift und Telefonn
 ummer an<br />Ulrike Chuchra, Tel.: 07351/441457<br />E-Mail: <strong><joom
 la-hidden-mail  is-link="1" is-email="1" first="Zm9ydW1mcmF1ZW4=" last="ZWZ
 nLWJ3LmRl" text="Zm9ydW1mcmF1ZW5AZWZnLWJ3LmRl" base="" >Diese E-Mail-Adress
 e ist vor Spambots geschützt! Zur Anzeige muss JavaScript eingeschaltet sei
 n.</joomla-hidden-mail></strong></p><p class="p4">Die Anmeldung wird verbin
 dlich durch die Überweisung des Seminarbetrages von 60 €.</p><p class="p4">
 <strong><em>Kontoinhaber</em></strong><br />Forum Frauen Baden Württemberg<
 br />IBAN: DE19 5009 2100 0000 1780 39<br />BIC: GENODE51BH2 (SKB Bad Hombu
 rg)</p><p class="p4">Bei einer Abmeldung wird die Seminargebühr einbehalten
 . Bei Absage vom 1. bis 11. November 2025 fallen 50 % der Kosten an. Bei Ab
 sage ab dem 12. November 2025 oder bei vorzeitiger Abreise werden 80 % des 
 Preises berechnet. Bei Abmeldung am Anreisetag oder Nichterscheinen wird de
 r volle Preis fällig.</p><p><strong><a href="http://baptisten-bw.de/images/
 PDF/Tanz_und-Andacht25.pdf" class="wf_file">Flyer | Tanz und Andacht</a></s
 trong></p>
CONTACT:Ulrike Chuchra, Tel.: 07351/441457
DTSTAMP:20260421T102130
DTSTART:20251121T150000
DTEND:20251123T130000
SEQUENCE:0
TRANSP:OPAQUE
END:VEVENT
END:VCALENDAR