BEGIN:VCALENDAR
VERSION:2.0
PRODID:-//jEvents 2.0 for Joomla//EN
CALSCALE:GREGORIAN
METHOD:PUBLISH
BEGIN:VEVENT
UID:836dce2c88ee10ebb14697df63867e89
CATEGORIES:LV BW
CREATED:20250212T180121
SUMMARY:Gute Gottesdienstmoderation, aber wie? | EFG Sindelfingen
LOCATION:EFG Sindelfingen
DESCRIPTION:!!! Die Schulung ist bereits ausgebucht. Keine Anmeldung mehr möglich!!!\nG
 ute Gottesdienstmoderation, aber wie? \nDamit sich Gottesdienstbesuchende d
 urch die Begrüßung willkommen fühlen, der rote Faden erkennbar ist und der 
 Bibeltext lebendig klingt. Gar nicht so einfach für die Person, die moderie
 rt, und dabei auch noch mit der Aufregung und den Zetteln zu kämpfen hat… W
 ie gut, dass man vieles lernen kann und vor allem: üben! Deshalb lädt der L
 andesverband Baden-Württemberg herzlich zu einer Moderationsschulung ein mi
 t Kai Pfefferkorn (Pastor in Reutlingen, hat als Dozent an der Hochschule f
 ür Kunst, Design und populäre Musik in Freiburg „Präsentation Skills“ unter
 richtet).\nEinen Samstag lang beschäftigen wir uns mit Fragen wie:\nWelche 
 Rolle habe ich eigentlich als Gottesdienstmoderierende?Was macht einen „gut
 en“ Gottesdienst aus?Wie kann ich unterschiedliche Altersgruppen einbeziehe
 n?Was mache ich mit dem Mikrofon, meiner Körpersprache und meiner Aufregung
 ?Wie bereite ich mich vor?Wer: erfahrene Moderierende, Neulinge und Neugier
 ige\nWann: 24. Mai 2025, 10 - 16 Uhr\nWo: EFG Sindelfingen, Friedenskirche 
 Altinger Str. 4, 71063 Sindelfingen\nKosten: 55 Euro inkl. Verpflegung und 
 Getränke (bei Anmeldung bis 30.03.25: 50 Euro)\nWir empfehlen, dass die jew
 eilige Gemeinde die Kosten für die Schulung ihrer Ehrenamtlichen übernimmt.
 \nAnmeldeschluss: Leider bereits ausgebucht\nAnmeldung: Diese E-Mail-Adress
 e ist vor Spambots geschützt! Zur Anzeige muss JavaScript eingeschaltet sei
 n.\n
X-ALT-DESC;FMTTYPE=text/html:<p class="p2" style="text-align: left;"><strong><span style="background-col
 or: #00ff00;">!!! Die Schulung ist bereits ausgebucht. Keine Anmeldung mehr
  möglich!!!</span><br />Gute Gottesdienstmoderation, aber wie? </strong></p
 ><p class="p2" style="text-align: left;">Damit sich Gottesdienstbesuchende 
 durch die Begrüßung willkommen fühlen, der rote Faden erkennbar ist und der
  Bibeltext lebendig klingt. Gar nicht so einfach für die Person, die moderi
 ert, und dabei auch noch mit der Aufregung und den Zetteln zu kämpfen hat… 
 Wie gut, dass man vieles lernen kann und vor allem: üben! Deshalb lädt der 
 Landesverband Baden-Württemberg herzlich zu einer <b>Moderationsschulung </
 b>ein mit <b>Kai Pfefferkorn</b> (Pastor in Reutlingen, hat als Dozent an d
 er Hochschule für Kunst, Design und populäre Musik in Freiburg „Präsentatio
 n Skills“ unterrichtet).</p><p class="p2">Einen Samstag lang beschäftigen w
 ir uns mit Fragen wie:</p><ul><li class="p2">Welche Rolle habe ich eigentli
 ch als Gottesdienstmoderierende?</li><li class="p2">Was macht einen „guten“
  Gottesdienst aus?</li><li class="p2">Wie kann ich unterschiedliche Altersg
 ruppen einbeziehen?</li><li class="p2">Was mache ich mit dem Mikrofon, mein
 er Körpersprache und meiner Aufregung?</li><li class="p2">Wie bereite ich m
 ich vor?</li></ul><p class="p2"><b>Wer</b>: erfahrene Moderierende, Neuling
 e und Neugierige</p><p class="p2"><b>Wann: </b>24. Mai 2025, 10 - 16 Uhr</p
 ><p class="p2"><b>Wo: </b>EFG Sindelfingen, Friedenskirche Altinger Str. 4,
  71063 Sindelfingen</p><p class="p2"><b>Kosten: </b>55 Euro inkl. Verpflegu
 ng und Getränke (bei Anmeldung bis 30.03.25: 50 Euro)</p><p class="p2">Wir 
 empfehlen, dass die jeweilige Gemeinde die Kosten für die Schulung ihrer Eh
 renamtlichen übernimmt.</p><p class="p2"><b>Anmeldeschluss</b>: Leider bere
 its ausgebucht</p><p class="p2"><b>Anmeldung</b>: <strong><joomla-hidden-ma
 il  is-link="1" is-email="1" first="YXNzaXN0ZW56" last="ZWZnLWJ3LmRl" text=
 "YXNzaXN0ZW56QGVmZy1idy5kZQ==" base="" >Diese E-Mail-Adresse ist vor Spambo
 ts geschützt! Zur Anzeige muss JavaScript eingeschaltet sein.</joomla-hidde
 n-mail></strong></p>
CONTACT:Diese E-Mail-Adresse ist vor Spambots geschützt! Zur Anzeige muss JavaScript eingeschaltet sein.
DTSTAMP:20260421T101951
DTSTART:20250524T080000
DTEND:20250524T140000
SEQUENCE:0
TRANSP:OPAQUE
END:VEVENT
END:VCALENDAR