BEGIN:VCALENDAR
VERSION:2.0
PRODID:-//jEvents 2.0 for Joomla//EN
CALSCALE:GREGORIAN
METHOD:PUBLISH
BEGIN:VEVENT
UID:a40905f98d635e14b112feb57dd1546c
CATEGORIES:Forum Frauen
CREATED:20250117T090459
SUMMARY:Dem Herzschlag Jesu auf der Spur | Haus Felsengrund in Zavelstein
LOCATION:Haus Felsengrund
DESCRIPTION:Seminar für Frauen in ZavelsteinGemeinsam wollen wir dem Herzschlag Jesu na
 chspüren - in den Begegnungen mit ihm und in den Geschichten, die er erzähl
 t.\nAuf die Frage wie die Liebe Gottes tiefer unser Herz erreichen kann, wo
 llen wir Antworten finden.\nSo werden wir an diesem Wochenende die Seelsorg
 e Jesu ganz persönlich genießen, um wieder neu gestärkt in den Alltag zu ge
 hen.\nReferentin:\nChristine NillIndividualpsychologische Beraterin und The
 rapeutische Seelsorgerin (ICL) in eigener Praxis in Blaustein bei Ulm\nAnme
 ldung bis spätestens 02.03.2025 bei:\nDoris Siodlaczek, Gotthilf-Dorn-Straß
 e 5,\n89143 Blaubeuren, Tel.: 07344-923887\nE-Mail: fDiese E-Mail-Adresse i
 st vor Spambots geschützt! Zur Anzeige muss JavaScript eingeschaltet sein. 
 (mailto:forumfrauen@efg-bw.de)\nDen Ablauf und die Kosten entnehmen Sie bit
 te dem beigefügtem Flyer.\nFlyer Seminar 2025 in Zavelstein (images/PDF/Sem
 inar-2025-Zavelstein-ChristineNill.pdf)\n
X-ALT-DESC;FMTTYPE=text/html:<h2>Seminar für Frauen in Zavelstein</h2><p>Gemeinsam wollen wir dem Herzsc
 hlag Jesu nachspüren - in den Begegnungen mit ihm und in den Geschichten, d
 ie er erzählt.<br />Auf die Frage wie die Liebe Gottes tiefer unser Herz er
 reichen kann, wollen wir Antworten finden.<br />So werden wir an diesem Woc
 henende die Seelsorge Jesu ganz persönlich genießen, um wieder neu gestärkt
  in den Alltag zu gehen.</p><p class="p1"><strong>Referentin:</strong></p><
 h4 class="p1">Christine Nill</h4><p class="p1">Individualpsychologische Ber
 aterin und Therapeutische Seelsorgerin (ICL) in eigener Praxis in Blaustein
  bei Ulm</p><p><strong>Anmeldung bis spätestens 02.03.2025 bei:</strong></p
 ><p>Doris Siodlaczek, Gotthilf-Dorn-Straße 5,<br />89143 Blaubeuren, Tel.: 
 07344-923887<br />E-Mail: <a href="mailto:forumfrauen@efg-bw.de">f<strong><
 joomla-hidden-mail  is-link="1" is-email="1" first="b3J1bWZyYXVlbg==" last=
 "ZWZnLWJ3LmRl" text="b3J1bWZyYXVlbkBlZmctYncuZGU=" base="" >Diese E-Mail-Ad
 resse ist vor Spambots geschützt! Zur Anzeige muss JavaScript eingeschaltet
  sein.</joomla-hidden-mail></strong></a></p><p>Den Ablauf und die Kosten en
 tnehmen Sie bitte dem beigefügtem Flyer.</p><p><strong><a href="http://bapt
 isten-bw.de/images/PDF/Seminar-2025-Zavelstein-ChristineNill.pdf" class="wf
 _file">Flyer Seminar 2025 in Zavelstein</a></strong></p>
CONTACT:Doris Siodlaczek, Gotthilf-Dorn-Straße 5, 89143 Blaubeuren, Tel.: 07344-923887 E-Mail: Diese E-Mail-Adresse ist vor Spambots geschützt! Zur Anzeige muss JavaScript eingeschaltet sein.
DTSTAMP:20260421T083258
DTSTART:20250321T150000
DTEND:20250323T130000
SEQUENCE:0
TRANSP:OPAQUE
END:VEVENT
END:VCALENDAR