BEGIN:VCALENDAR
VERSION:2.0
PRODID:-//jEvents 2.0 for Joomla//EN
CALSCALE:GREGORIAN
METHOD:PUBLISH
BEGIN:VEVENT
UID:f8ecd0de9140eaf3ac81235ce9332dd7
CATEGORIES:LV BW
CREATED:20241109T095400
SUMMARY:Gottesdienst zum Täufergedenken | Bethelkirche Stuttgart
LOCATION:EFG Stuttgart Forststraße
DESCRIPTION:<h3>Gemeinsam feiern</h3><p>Wir feiern 500 Jahre Täuferbewegung und laden n
 ach dem Gottesdienst zum Stehempfang ein.</p><p>Dieser exemplarische Gottes
 dienst möchte Gemeinden inspirieren, eigene ökumenische Gottesdienste zum T
 äufergedenken zu feiern.</p><p>Das Material zum Gottesdienst wird im Themen
 heft 2025 veröffentlicht.</p><p>Der Gottesdienst kann zeitgleich, aber auch
  später über den Youtube-Kanal der Bethelkirche mitgefeiert werden unter:</
 p><p><strong><a href="https://www.youtube.com/">https://www.youtube.com/</a
 >bethelkirchestuttgart</strong></p><p><strong><a href="images/PDF/Flyer_Got
 tesdienst.pdf" target="_blank" class="wf_file" title="Flyer zum Gottesdiens
 t">Flyer zum Gottesdienst</a><br /><br /></strong></p>
X-ALT-DESC;FMTTYPE=text/html:<h3>Gemeinsam feiern</h3><p>Wir feiern 500 Jahre Täuferbewegung und laden n
 ach dem Gottesdienst zum Stehempfang ein.</p><p>Dieser exemplarische Gottes
 dienst möchte Gemeinden inspirieren, eigene ökumenische Gottesdienste zum T
 äufergedenken zu feiern.</p><p>Das Material zum Gottesdienst wird im Themen
 heft 2025 veröffentlicht.</p><p>Der Gottesdienst kann zeitgleich, aber auch
  später über den Youtube-Kanal der Bethelkirche mitgefeiert werden unter:</
 p><p><strong><a href="https://www.youtube.com/">https://www.youtube.com/</a
 >bethelkirchestuttgart</strong></p><p><strong><a href="http://baptisten-bw.
 de/images/PDF/Flyer_Gottesdienst.pdf" target="_blank" class="wf_file" title
 ="Flyer zum Gottesdienst">Flyer zum Gottesdienst</a><br /><br /></strong></
 p>
DTSTAMP:20260421T084457
DTSTART:20250202T090000
SEQUENCE:0
TRANSP:OPAQUE
END:VEVENT
END:VCALENDAR