BEGIN:VCALENDAR
VERSION:2.0
PRODID:-//jEvents 2.0 for Joomla//EN
CALSCALE:GREGORIAN
METHOD:PUBLISH
BEGIN:VEVENT
UID:19e9308b7ffbbd7edb8a4d38176452fa
CATEGORIES:Diakoniewerk
CREATED:20240113T125406
SUMMARY:Diakoniewerk EFG BW | Jahres-Mitgliederversammlung
DESCRIPTION:<p><strong>Jahres-Mitgliederversammlung und Abschiedsfest Vorstandsvorsitze
 nder Holger Gohla in der EFG Neu-Ulm</strong></p>
DTSTAMP:20260422T104646
DTSTART:20240302T120000
DTEND:20240302T183000
SEQUENCE:0
TRANSP:OPAQUE
END:VEVENT
END:VCALENDAR