BEGIN:VCALENDAR
VERSION:2.0
PRODID:-//jEvents 2.0 for Joomla//EN
CALSCALE:GREGORIAN
METHOD:PUBLISH
BEGIN:VEVENT
UID:9f1b0f2a663e09b88fed77fdcbe9dd4e
CATEGORIES:LV BW
CREATED:20240113T125148
SUMMARY:Landesverbandsleitungssitzung
DESCRIPTION:Landesverbandsleitungssitzung\n
X-ALT-DESC;FMTTYPE=text/html:<p>Landesverbandsleitungssitzung</p>
DTSTAMP:20260424T083958
DTSTART:20240210T090000
DTEND:20240210T160000
SEQUENCE:0
TRANSP:OPAQUE
END:VEVENT
END:VCALENDAR