BEGIN:VCALENDAR
VERSION:2.0
PRODID:-//jEvents 2.0 for Joomla//EN
CALSCALE:GREGORIAN
METHOD:PUBLISH
BEGIN:VEVENT
UID:b1fc2e57709fe2fe911e9271eab107fc
CATEGORIES:Senioren
CREATED:20231127T154732
SUMMARY:Seniorentag | EFG Weinstadt-Endersbach
LOCATION:EFG Weinstadt
DESCRIPTION:Seniorentag am 25. Mai 2024Referent:     Pastor i.R. Arno Kawohl\nThema\n\n
  - vormittags    - Hoffnung - das Seil zwischen Himmel und Erde (Hebr. 6,19
 )\n - nachmittags - Berufen, das Erbe weiter zu geben (2. Tim. 2,2)Beginn: 
       10 Uhr\nEnde:          ca. 16 Uhr\nTeilnahmebeitrag: 15 € (inkl. Imbi
 ss, Mittagessen, Kaffee und Kuchen)\nAnmeldung bei: Manfred Draheim | 07181
 /669086 | Diese E-Mail-Adresse ist vor Spambots geschützt! Zur Anzeige muss
  JavaScript eingeschaltet sein.\n
X-ALT-DESC;FMTTYPE=text/html:<h3>Seniorentag am 25. Mai 2024</h3><p><strong>Referent:&nbsp; &nbsp; &nbsp
 ;Pastor i.R. Arno Kawohl</strong></p><p><strong>Thema</strong></p><ul><li><
 strong>vormittags&nbsp; &nbsp; - Hoffnung - das Seil zwischen Himmel und Er
 de (Hebr. 6,19)</strong></li><li><strong>nachmittags - Berufen, das Erbe we
 iter zu geben (2. Tim. 2,2)</strong></li></ul><p>Beginn:&nbsp; &nbsp; &nbsp
 ; &nbsp;10 Uhr<br />Ende: &nbsp; &nbsp; &nbsp; &nbsp; &nbsp;ca. 16 Uhr</p><
 p>Teilnahmebeitrag: 15 € (inkl. Imbiss, Mittagessen, Kaffee und Kuchen)</p>
 <p><strong>Anmeldung bei: Manfred Draheim | 07181/669086&nbsp;|&nbsp;<jooml
 a-hidden-mail  is-link="1" is-email="1" first="bWFuZnJlZF9kcmFoZWlt" last="
 ZnJlZW5ldC5kZQ==" text="bWFuZnJlZF9kcmFoZWltQGZyZWVuZXQuZGU=" base="" >Dies
 e E-Mail-Adresse ist vor Spambots geschützt! Zur Anzeige muss JavaScript ei
 ngeschaltet sein.</joomla-hidden-mail></strong></p>
CONTACT:Manfred Draheim (07181/669086)                   Diese E-Mail-Adresse ist vor Spambots geschützt! Zur Anzeige muss JavaScript eingeschaltet sein.
DTSTAMP:20260424T084000
DTSTART:20240525T080000
DTEND:20240525T140000
SEQUENCE:0
TRANSP:OPAQUE
END:VEVENT
END:VCALENDAR